BEGIN:VCALENDAR
VERSION:2.0
PRODID:-//Tukios.com/
BEGIN:VEVENT
UID:f85b814a-8dd4-45dc-8f21-d9eeba183e06@www.divinitymortuary.com
DTSTAMP:20260421T085857Z
DTSTART:20260228
SUMMARY:Interment
DESCRIPTION:
URL:https://www.divinitymortuary.com/obituaries/mary-smalls-2026
LOCATION:Bethel United Methodist Church Cemetery 1245 Forty-One Rd  St 
	Stephen SC 29479
GEO:33.341371;-79.9226772
END:VEVENT
END:VCALENDAR