BEGIN:VCALENDAR
VERSION:2.0
PRODID:-//Tukios.com/
BEGIN:VEVENT
UID:eab6c0c5-c2d6-41af-82c9-576fb18d2811@www.divinitymortuary.com
DTSTAMP:20260421T085753Z
DTSTART:20260227T210000Z
DTEND:20260227T230000Z
SUMMARY:Viewing
DESCRIPTION:
URL:https://www.divinitymortuary.com/obituaries/mary-smalls-2026
LOCATION: 924 S Live Oak Dr  Moncks Corner SC 29461
GEO:33.1749886;-80.0356124
END:VEVENT
END:VCALENDAR